BEGIN:VCALENDAR
VERSION:2.0
PRODID:-//HCCI - ECPv5.2.1//NONSGML v1.0//EN
CALSCALE:GREGORIAN
METHOD:PUBLISH
X-WR-CALNAME:HCCI
X-ORIGINAL-URL:https://hcci.org.uk
X-WR-CALDESC:Events for HCCI
BEGIN:VTIMEZONE
TZID:Europe/London
BEGIN:DAYLIGHT
TZOFFSETFROM:+0000
TZOFFSETTO:+0100
TZNAME:BST
DTSTART:20200329T010000
END:DAYLIGHT
BEGIN:STANDARD
TZOFFSETFROM:+0100
TZOFFSETTO:+0000
TZNAME:GMT
DTSTART:20201025T010000
END:STANDARD
END:VTIMEZONE
BEGIN:VEVENT
DTSTART;TZID=Europe/London:20201119T180000
DTEND;TZID=Europe/London:20201119T193000
DTSTAMP:20201026T210401
CREATED:20200207T150520Z
LAST-MODIFIED:20200207T150520Z
UID:2149-1605808800-1605814200@hcci.org.uk
SUMMARY:HCCI Executive Meeting - 19th November (AGM)
DESCRIPTION:ROOM CR2 \nInvitees only – guests are only allowed by invitation \nHCCI Executive Meeting – 19th November (AGM) was last modified:  February 7th\, 2020 by
URL:https://hcci.org.uk/event/hcci-executive-meeting-19th-november-agm/
LOCATION:Havering Town Hall\, Romford\, United Kingdom
CATEGORIES:Havering Chamber of Commerce Executive Meeting
ORGANIZER;CN="Havering%20Chamber%20of%20Commerce%20and%20Industry":MAILTO:enquiries@hcci.org.uk
END:VEVENT
END:VCALENDAR